Workbook

Sheet 【様式】現場閉所報告書
A2: 【現場閉所報告書】 | I2: 令和 | L2: 年度
M3: （工期 令和 | S3: 年 | U3: 月 | W3: 日 ～ 令和 | AB3: 年 | AD3: 月 | AF3: 日）
A4: 月単位における週休２日の判定
A5: ∴ | B5: =IF(COUNTIF(AR13:AS82,"×")=0,"月単位の週休２日達成","月単位における週休２日達成していない") -> 月単位の週休２日達成
A7: 通期における週休２日の判定
A8: ① | B8: 対象期間内日数 | K8: =AP15+AP20+AP25+AP30+AP35+AP40+AP45+AP50+AP55+AP60+AP65+AP70+AP75+AP80 -> 10 | M8: 日
A9: ② | B9: ４週８休以上 | K9: =ROUNDUP(K8*0.285,0) -> 3 | M9: 日 | N9: =①×0.285（8日/28日）(小数点以下切り上げ)
A10: ③ | B10: 現場閉所日数(通期) | K10: =AP17+AP22+AP27+AP32+AP37+AP42+AP47+AP52+AP57+AP62+AP67+AP72+AP77+AP82 -> 1 | M10: 日
A11: ② | C11: =IF(K10>K9,"≦",">") -> > | D11: ③ | E11: ∴ | F11: =IF(K10>=K9,"通期における週休２日達成","週休２日を達成していない") -> 週休２日を達成していない | AO11: ※必ず検算すること。
D13: 日付 | G13: 1 | H13: 2 | I13: 3 | J13: 4 | K13: 5 | L13: 6 | M13: 7 | N13: 8 | O13: 9 | P13: 10 | Q13: 11 | R13: 12 | S13: 13 | T13: 14 | U13: 15 | V13: 16 | W13: 17 | X13: 18 | Y13: 19 | Z13: 20 | AA13: 21 | AB13: 22 | AC13: 23 | AD13: 24 | AE13: 25 | AF13: 26 | AG13: 27 | AH13: 28 | AI13: =IF(DAY(EOMONTH(DATE(B15+2018,B16,1),0))<29,"","29") -> 29 | AJ13: =IF(DAY(EOMONTH(DATE(B15+2018,B16,1),0))<30,"","30") -> 30 | AK13: =IF(DAY(EOMONTH(DATE(B15+2018,B16,1),0))<31,"","31") -> 31 | AL13: 実施要領3における | AR13: 現場閉所/対象期間
D14: 曜日 | G14: =IF(G13="","",TEXT(DATE($B15+2018,$B16,G13),"aaa")) -> 土 | H14: =IF(H13="","",TEXT(DATE($B15+2018,$B16,H13),"aaa")) -> 日 | I14: =IF(I13="","",TEXT(DATE($B15+2018,$B16,I13),"aaa")) -> 月 | J14: =IF(J13="","",TEXT(DATE($B15+2018,$B16,J13),"aaa")) -> 火 | K14: =IF(K13="","",TEXT(DATE($B15+2018,$B16,K13),"aaa")) -> 水 | L14: =IF(L13="","",TEXT(DATE($B15+2018,$B16,L13),"aaa")) -> 木 | M14: =IF(M13="","",TEXT(DATE($B15+2018,$B16,M13),"aaa")) -> 金 | N14: =IF(N13="","",TEXT(DATE($B15+2018,$B16,N13),"aaa")) -> 土 | ... AK14: =IF(AK13="","",TEXT(DATE($B15+2018,$B16,AK13),"aaa")) -> 月 | AS14: =IFERROR(AP17/AP15,"") -> 0.1
A15: 令和 | B15: 7 | C15: 年 | D15: 期間種別 | AB15: 工 | AC15: 工 | AD15: 工 | AE15: 工 | AF15: 工 | AG15: 工 | AH15: 工 | AI15: 工 | AJ15: 工 | AK15: 工 | AL15: 対象期間日数 | AP15: =COUNTIF(G15:AK15,プルダウン!$B$3) -> 10
B16: 3 | C16: 月 | D16: 計画 | AE16: 作
D17: 実施 | AC17: 休 | AD17: 作 | AL17: 現場閉所日数 | AP17: =COUNTIF(G17:AK17,プルダウン!$D$4)+COUNTIF(G17:AK17,プルダウン!$D$5)-COUNTIF(G15:AK15,プルダウン!$B$4)-COUNTIF(G15:AK15,プルダウン!$B$5)-COUNTIF(G15:AK15,プルダウン!$B$6)-COUNTIF(G15:AK15,プルダウン!$B$7)-COUNTIF(G15:AK15,プルダウン!$B$8)-COUNTIF(G15:AK15,プルダウン!$B$9) -> 1
D18: 日付 | G18: 1 | H18: 2 | I18: 3 | J18: 4 | K18: 5 | L18: 6 | M18: 7 | N18: 8 | O18: 9 | P18: 10 | Q18: 11 | R18: 12 | S18: 13 | T18: 14 | U18: 15 | V18: 16 | W18: 17 | X18: 18 | Y18: 19 | Z18: 20 | AA18: 21 | AB18: 22 | AC18: 23 | AD18: 24 | AE18: 25 | AF18: 26 | AG18: 27 | AH18: 28 | AI18: =IF(DAY(EOMONTH(DATE(B20+2018,B21,1),0))<29,"","29") -> 29 | AJ18: =IF(DAY(EOMONTH(DATE(B20+2018,B21,1),0))<30,"","30") -> 30 | AK18: =IF(DAY(EOMONTH(DATE(B20+2018,B21,1),0))<31,"","31") -> 31 | AL18: 実施要領3における | AR18: 現場閉所/対象期間
D19: 曜日 | G19: =IF(G18="","",TEXT(DATE($B20+2018,$B21,G18),"aaa")) -> 金 | H19: =IF(H18="","",TEXT(DATE($B20+2018,$B21,H18),"aaa")) -> 土 | I19: =IF(I18="","",TEXT(DATE($B20+2018,$B21,I18),"aaa")) -> 日 | J19: =IF(J18="","",TEXT(DATE($B20+2018,$B21,J18),"aaa")) -> 月 | K19: =IF(K18="","",TEXT(DATE($B20+2018,$B21,K18),"aaa")) -> 火 | L19: =IF(L18="","",TEXT(DATE($B20+2018,$B21,L18),"aaa")) -> 水 | M19: =IF(M18="","",TEXT(DATE($B20+2018,$B21,M18),"aaa")) -> 木 | N19: =IF(N18="","",TEXT(DATE($B20+2018,$B21,N18),"aaa")) -> 金 | ... AK19: =IF(AK18="","",TEXT(DATE($B20+2018,$B21,AK18),"aaa")) -> 日 | AS19: =IFERROR(AP22/AP20,"")
A20: 令和 | C20: 年 | D20: 期間種別 | AL20: 対象期間日数 | AP20: =COUNTIF(G20:AK20,プルダウン!$B$3) -> 0
C21: 月 | D21: 計画
D22: 実施 | AL22: 現場閉所日数 | AP22: =COUNTIF(G22:AK22,プルダウン!$D$4)+COUNTIF(G22:AK22,プルダウン!$D$5)-COUNTIF(G20:AK20,プルダウン!$B$4)-COUNTIF(G20:AK20,プルダウン!$B$5)-COUNTIF(G20:AK20,プルダウン!$B$6)-COUNTIF(G20:AK20,プルダウン!$B$7)-COUNTIF(G20:AK20,プルダウン!$B$8)-COUNTIF(G20:AK20,プルダウン!$B$9) -> 0
D23: 日付 | G23: 1 | H23: 2 | I23: 3 | J23: 4 | K23: 5 | L23: 6 | M23: 7 | N23: 8 | O23: 9 | P23: 10 | Q23: 11 | R23: 12 | S23: 13 | T23: 14 | U23: 15 | V23: 16 | W23: 17 | X23: 18 | Y23: 19 | Z23: 20 | AA23: 21 | AB23: 22 | AC23: 23 | AD23: 24 | AE23: 25 | AF23: 26 | AG23: 27 | AH23: 28 | AI23: =IF(DAY(EOMONTH(DATE(B25+2018,B26,1),0))<29,"","29") -> 29 | AJ23: =IF(DAY(EOMONTH(DATE(B25+2018,B26,1),0))<30,"","30") -> 30 | AK23: =IF(DAY(EOMONTH(DATE(B25+2018,B26,1),0))<31,"","31") -> 31 | AL23: 実施要領3における | AR23: 現場閉所/対象期間
D24: 曜日 | G24: =IF(G23="","",TEXT(DATE($B25+2018,$B26,G23),"aaa")) -> 金 | H24: =IF(H23="","",TEXT(DATE($B25+2018,$B26,H23),"aaa")) -> 土 | I24: =IF(I23="","",TEXT(DATE($B25+2018,$B26,I23),"aaa")) -> 日 | J24: =IF(J23="","",TEXT(DATE($B25+2018,$B26,J23),"aaa")) -> 月 | K24: =IF(K23="","",TEXT(DATE($B25+2018,$B26,K23),"aaa")) -> 火 | L24: =IF(L23="","",TEXT(DATE($B25+2018,$B26,L23),"aaa")) -> 水 | M24: =IF(M23="","",TEXT(DATE($B25+2018,$B26,M23),"aaa")) -> 木 | N24: =IF(N23="","",TEXT(DATE($B25+2018,$B26,N23),"aaa")) -> 金 | ... AK24: =IF(AK23="","",TEXT(DATE($B25+2018,$B26,AK23),"aaa")) -> 日 | AS24: =IFERROR(AP27/AP25,"")
A25: 令和 | C25: 年 | D25: 期間種別 | AL25: 対象期間日数 | AP25: =COUNTIF(G25:AK25,プルダウン!$B$3) -> 0
C26: 月 | D26: 計画
D27: 実施 | AL27: 現場閉所日数 | AP27: =COUNTIF(G27:AK27,プルダウン!$D$4)+COUNTIF(G27:AK27,プルダウン!$D$5)-COUNTIF(G25:AK25,プルダウン!$B$4)-COUNTIF(G25:AK25,プルダウン!$B$5)-COUNTIF(G25:AK25,プルダウン!$B$6)-COUNTIF(G25:AK25,プルダウン!$B$7)-COUNTIF(G25:AK25,プルダウン!$B$8)-COUNTIF(G25:AK25,プルダウン!$B$9) -> 0
D28: 日付 | G28: 1 | H28: 2 | I28: 3 | J28: 4 | K28: 5 | L28: 6 | M28: 7 | N28: 8 | O28: 9 | P28: 10 | Q28: 11 | R28: 12 | S28: 13 | T28: 14 | U28: 15 | V28: 16 | W28: 17 | X28: 18 | Y28: 19 | Z28: 20 | AA28: 21 | AB28: 22 | AC28: 23 | AD28: 24 | AE28: 25 | AF28: 26 | AG28: 27 | AH28: 28 | AI28: =IF(DAY(EOMONTH(DATE(B30+2018,B31,1),0))<29,"","29") -> 29 | AJ28: =IF(DAY(EOMONTH(DATE(B30+2018,B31,1),0))<30,"","30") -> 30 | AK28: =IF(DAY(EOMONTH(DATE(B30+2018,B31,1),0))<31,"","31") -> 31 | AL28: 実施要領3における | AR28: 現場閉所/対象期間
D29: 曜日 | G29: =IF(G28="","",TEXT(DATE($B30+2018,$B31,G28),"aaa")) -> 金 | H29: =IF(H28="","",TEXT(DATE($B30+2018,$B31,H28),"aaa")) -> 土 | I29: =IF(I28="","",TEXT(DATE($B30+2018,$B31,I28),"aaa")) -> 日 | J29: =IF(J28="","",TEXT(DATE($B30+2018,$B31,J28),"aaa")) -> 月 | K29: =IF(K28="","",TEXT(DATE($B30+2018,$B31,K28),"aaa")) -> 火 | L29: =IF(L28="","",TEXT(DATE($B30+2018,$B31,L28),"aaa")) -> 水 | M29: =IF(M28="","",TEXT(DATE($B30+2018,$B31,M28),"aaa")) -> 木 | N29: =IF(N28="","",TEXT(DATE($B30+2018,$B31,N28),"aaa")) -> 金 | ... AK29: =IF(AK28="","",TEXT(DATE($B30+2018,$B31,AK28),"aaa")) -> 日 | AS29: =IFERROR(AP32/AP30,"")
A30: 令和 | C30: 年 | D30: 期間種別 | AL30: 対象期間日数 | AP30: =COUNTIF(G30:AK30,プルダウン!$B$3) -> 0
C31: 月 | D31: 計画
D32: 実施 | AL32: 現場閉所日数 | AP32: =COUNTIF(G32:AK32,プルダウン!$D$4)+COUNTIF(G32:AK32,プルダウン!$D$5)-COUNTIF(G30:AK30,プルダウン!$B$4)-COUNTIF(G30:AK30,プルダウン!$B$5)-COUNTIF(G30:AK30,プルダウン!$B$6)-COUNTIF(G30:AK30,プルダウン!$B$7)-COUNTIF(G30:AK30,プルダウン!$B$8)-COUNTIF(G30:AK30,プルダウン!$B$9) -> 0
D33: 日付 | G33: 1 | H33: 2 | I33: 3 | J33: 4 | K33: 5 | L33: 6 | M33: 7 | N33: 8 | O33: 9 | P33: 10 | Q33: 11 | R33: 12 | S33: 13 | T33: 14 | U33: 15 | V33: 16 | W33: 17 | X33: 18 | Y33: 19 | Z33: 20 | AA33: 21 | AB33: 22 | AC33: 23 | AD33: 24 | AE33: 25 | AF33: 26 | AG33: 27 | AH33: 28 | AI33: =IF(DAY(EOMONTH(DATE(B35+2018,B36,1),0))<29,"","29") -> 29 | AJ33: =IF(DAY(EOMONTH(DATE(B35+2018,B36,1),0))<30,"","30") -> 30 | AK33: =IF(DAY(EOMONTH(DATE(B35+2018,B36,1),0))<31,"","31") -> 31 | AL33: 実施要領3における | AR33: 現場閉所/対象期間
D34: 曜日 | G34: =IF(G33="","",TEXT(DATE($B35+2018,$B36,G33),"aaa")) -> 金 | H34: =IF(H33="","",TEXT(DATE($B35+2018,$B36,H33),"aaa")) -> 土 | I34: =IF(I33="","",TEXT(DATE($B35+2018,$B36,I33),"aaa")) -> 日 | J34: =IF(J33="","",TEXT(DATE($B35+2018,$B36,J33),"aaa")) -> 月 | K34: =IF(K33="","",TEXT(DATE($B35+2018,$B36,K33),"aaa")) -> 火 | L34: =IF(L33="","",TEXT(DATE($B35+2018,$B36,L33),"aaa")) -> 水 | M34: =IF(M33="","",TEXT(DATE($B35+2018,$B36,M33),"aaa")) -> 木 | N34: =IF(N33="","",TEXT(DATE($B35+2018,$B36,N33),"aaa")) -> 金 | ... AK34: =IF(AK33="","",TEXT(DATE($B35+2018,$B36,AK33),"aaa")) -> 日 | AS34: =IFERROR(AP37/AP35,"")
A35: 令和 | C35: 年 | D35: 期間種別 | AL35: 対象期間日数 | AP35: =COUNTIF(G35:AK35,プルダウン!$B$3) -> 0
C36: 月 | D36: 計画
D37: 実施 | AL37: 現場閉所日数 | AP37: =COUNTIF(G37:AK37,プルダウン!$D$4)+COUNTIF(G37:AK37,プルダウン!$D$5)-COUNTIF(G35:AK35,プルダウン!$B$4)-COUNTIF(G35:AK35,プルダウン!$B$5)-COUNTIF(G35:AK35,プルダウン!$B$6)-COUNTIF(G35:AK35,プルダウン!$B$7)-COUNTIF(G35:AK35,プルダウン!$B$8)-COUNTIF(G35:AK35,プルダウン!$B$9) -> 0
D38: 日付 | G38: 1 | H38: 2 | I38: 3 | J38: 4 | K38: 5 | L38: 6 | M38: 7 | N38: 8 | O38: 9 | P38: 10 | Q38: 11 | R38: 12 | S38: 13 | T38: 14 | U38: 15 | V38: 16 | W38: 17 | X38: 18 | Y38: 19 | Z38: 20 | AA38: 21 | AB38: 22 | AC38: 23 | AD38: 24 | AE38: 25 | AF38: 26 | AG38: 27 | AH38: 28 | AI38: =IF(DAY(EOMONTH(DATE(B40+2018,B41,1),0))<29,"","29") -> 29 | AJ38: =IF(DAY(EOMONTH(DATE(B40+2018,B41,1),0))<30,"","30") -> 30 | AK38: =IF(DAY(EOMONTH(DATE(B40+2018,B41,1),0))<31,"","31") -> 31 | AL38: 実施要領3における | AR38: 現場閉所/対象期間
D39: 曜日 | G39: =IF(G38="","",TEXT(DATE($B40+2018,$B41,G38),"aaa")) -> 金 | H39: =IF(H38="","",TEXT(DATE($B40+2018,$B41,H38),"aaa")) -> 土 | I39: =IF(I38="","",TEXT(DATE($B40+2018,$B41,I38),"aaa")) -> 日 | J39: =IF(J38="","",TEXT(DATE($B40+2018,$B41,J38),"aaa")) -> 月 | K39: =IF(K38="","",TEXT(DATE($B40+2018,$B41,K38),"aaa")) -> 火 | L39: =IF(L38="","",TEXT(DATE($B40+2018,$B41,L38),"aaa")) -> 水 | M39: =IF(M38="","",TEXT(DATE($B40+2018,$B41,M38),"aaa")) -> 木 | N39: =IF(N38="","",TEXT(DATE($B40+2018,$B41,N38),"aaa")) -> 金 | ... AK39: =IF(AK38="","",TEXT(DATE($B40+2018,$B41,AK38),"aaa")) -> 日 | AS39: =IFERROR(AP42/AP40,"")
A40: 令和 | C40: 年 | D40: 期間種別 | AL40: 対象期間日数 | AP40: =COUNTIF(G40:AK40,プルダウン!$B$3) -> 0
C41: 月 | D41: 計画
D42: 実施 | AL42: 現場閉所日数 | AP42: =COUNTIF(G42:AK42,プルダウン!$D$4)+COUNTIF(G42:AK42,プルダウン!$D$5)-COUNTIF(G40:AK40,プルダウン!$B$4)-COUNTIF(G40:AK40,プルダウン!$B$5)-COUNTIF(G40:AK40,プルダウン!$B$6)-COUNTIF(G40:AK40,プルダウン!$B$7)-COUNTIF(G40:AK40,プルダウン!$B$8)-COUNTIF(G40:AK40,プルダウン!$B$9) -> 0
D43: 日付 | G43: 1 | H43: 2 | I43: 3 | J43: 4 | K43: 5 | L43: 6 | M43: 7 | N43: 8 | O43: 9 | P43: 10 | Q43: 11 | R43: 12 | S43: 13 | T43: 14 | U43: 15 | V43: 16 | W43: 17 | X43: 18 | Y43: 19 | Z43: 20 | AA43: 21 | AB43: 22 | AC43: 23 | AD43: 24 | AE43: 25 | AF43: 26 | AG43: 27 | AH43: 28 | AI43: =IF(DAY(EOMONTH(DATE(B45+2018,B46,1),0))<29,"","29") -> 29 | AJ43: =IF(DAY(EOMONTH(DATE(B45+2018,B46,1),0))<30,"","30") -> 30 | AK43: =IF(DAY(EOMONTH(DATE(B45+2018,B46,1),0))<31,"","31") -> 31 | AL43: 実施要領3における | AR43: 現場閉所/対象期間
...

Sheet 【記載例】現場閉所報告書
A1: 【記載例】
A2: 【現場閉所報告書】 | I2: 令和 | K2: 7 | L2: 年度 | O2: 〇〇工事(その１)
N3: （工期 令和７年４月１日～令和７年１１月５日）
A4: 月単位における週休２日の判定
A5: ∴ | B5: =IF(COUNTIF(AR13:AS82,"×")=0,"月単位の週休２日達成","月単位における週休２日達成していない") -> 月単位における週休２日達成していない
A7: 通期における週休２日の判定
A8: ① | B8: 対象期間内日数 | K8: =AP15+AP20+AP25+AP30+AP35+AP40+AP45+AP50+AP55+AP60+AP65+AP70+AP75+AP80 -> 164 | M8: 日
A9: ② | B9: ４週８休以上 | K9: =ROUNDUP(K8*0.285,0) -> 47 | M9: 日 | N9: =①×0.285（8日/28日）(小数点以下切り上げ)
A10: ③ | B10: 現場閉所日数(通期) | K10: =AP17+AP22+AP27+AP32+AP37+AP42+AP47+AP52+AP57+AP62+AP67+AP72+AP77+AP82 -> 53 | M10: 日
A11: ② | C11: =IF(K10>K9,"≦",">") -> ≦ | D11: ③ | E11: ∴ | F11: =IF(K10>=K9,"通期における週休２日達成","週休２日を達成していない") -> 通期における週休２日達成 | AO11: ※必ず検算すること。
D13: 日付 | G13: 1 | H13: 2 | I13: 3 | J13: 4 | K13: 5 | L13: 6 | M13: 7 | N13: 8 | O13: 9 | P13: 10 | Q13: 11 | R13: 12 | S13: 13 | T13: 14 | U13: 15 | V13: 16 | W13: 17 | X13: 18 | Y13: 19 | Z13: 20 | AA13: 21 | AB13: 22 | AC13: 23 | AD13: 24 | AE13: 25 | AF13: 26 | AG13: 27 | AH13: 28 | AI13: =IF(DAY(EOMONTH(DATE(B15+2018,B16,1),0))<29,"","29") -> 29 | AJ13: =IF(DAY(EOMONTH(DATE(B15+2018,B16,1),0))<30,"","30") -> 30 | AK13: =IF(DAY(EOMONTH(DATE(B15+2018,B16,1),0))<31,"","31") | AL13: 実施要領3における | AR13: 現場閉所/対象期間
D14: 曜日 | G14: =IF(G13="","",TEXT(DATE($B15+2018,$B16,G13),"aaa")) -> 火 | H14: =IF(H13="","",TEXT(DATE($B15+2018,$B16,H13),"aaa")) -> 水 | I14: =IF(I13="","",TEXT(DATE($B15+2018,$B16,I13),"aaa")) -> 木 | J14: =IF(J13="","",TEXT(DATE($B15+2018,$B16,J13),"aaa")) -> 金 | K14: =IF(K13="","",TEXT(DATE($B15+2018,$B16,K13),"aaa")) -> 土 | L14: =IF(L13="","",TEXT(DATE($B15+2018,$B16,L13),"aaa")) -> 日 | M14: =IF(M13="","",TEXT(DATE($B15+2018,$B16,M13),"aaa")) -> 月 | N14: =IF(N13="","",TEXT(DATE($B15+2018,$B16,N13),"aaa")) -> 火 | ... AK14: =IF(AK13="","",TEXT(DATE($B15+2018,$B16,AK13),"aaa")) | AS14: =IFERROR(AP17/AP15,"") -> 0.3125
A15: 令和 | B15: 7 | C15: 年 | D15: 期間種別 | U15: 工 | V15: 工 | W15: 工 | X15: 工 | Y15: 工 | Z15: 工 | AA15: 工 | AB15: 工 | AC15: 工 | AD15: 工 | AE15: 工 | AF15: 工 | AG15: 工 | AH15: 工 | AI15: 工 | AJ15: 工 | AL15: 対象期間日数 | AP15: =COUNTIF(G15:AK15,[1]プルダウン!$B$3) -> 16 | AR15: 〇
B16: 4 | C16: 月 | D16: 計画 | U16: 作 | V16: 作 | W16: 作 | X16: 作 | Y16: 休 | Z16: 休 | AA16: 作 | AB16: 作 | AC16: 作 | AD16: 作 | AE16: 作 | AF16: 休 | AG16: 休 | AH16: 作 | AI16: 休 | AJ16: 作 | AR16: ①現場閉所率28.5%以上
D17: 実施 | U17: 作 | V17: 作 | W17: 作 | X17: 作 | Y17: 休 | Z17: 休 | AA17: 作 | AB17: 作 | AC17: 作 | AD17: 作 | AE17: 作 | AF17: 休 | AG17: 休 | AH17: 作 | AI17: 休 | AJ17: 作 | AL17: 現場閉所日数 | AP17: =COUNTIF(G17:AK17,[1]プルダウン!$D$4)+COUNTIF(G17:AK17,[1]プルダウン!$D$5)-COUNTIF(G15:AK15,[1]プルダウン!$B$4)-COUNTIF(G15:AK15,[1]プルダウン!$B$5)-COUNTIF(G15:AK15,[1]プルダウン!$B$6)-COUNTIF(G15:AK15,[1]プルダウン!$B$7)-COUNTIF(G15:AK15,[1]プルダウン!$B$8)-COUNTIF(G15:AK15,[1]プルダウン!$B$9) -> 5
D18: 日付 | G18: 1 | H18: 2 | I18: 3 | J18: 4 | K18: 5 | L18: 6 | M18: 7 | N18: 8 | O18: 9 | P18: 10 | Q18: 11 | R18: 12 | S18: 13 | T18: 14 | U18: 15 | V18: 16 | W18: 17 | X18: 18 | Y18: 19 | Z18: 20 | AA18: 21 | AB18: 22 | AC18: 23 | AD18: 24 | AE18: 25 | AF18: 26 | AG18: 27 | AH18: 28 | AI18: =IF(DAY(EOMONTH(DATE(B20+2018,B21,1),0))<29,"","29") -> 29 | AJ18: =IF(DAY(EOMONTH(DATE(B20+2018,B21,1),0))<30,"","30") -> 30 | AK18: =IF(DAY(EOMONTH(DATE(B20+2018,B21,1),0))<31,"","31") -> 31 | AL18: 実施要領3における | AR18: 現場閉所/対象期間
D19: 曜日 | G19: =IF(G18="","",TEXT(DATE($B20+2018,$B21,G18),"aaa")) -> 木 | H19: =IF(H18="","",TEXT(DATE($B20+2018,$B21,H18),"aaa")) -> 金 | I19: =IF(I18="","",TEXT(DATE($B20+2018,$B21,I18),"aaa")) -> 土 | J19: =IF(J18="","",TEXT(DATE($B20+2018,$B21,J18),"aaa")) -> 日 | K19: =IF(K18="","",TEXT(DATE($B20+2018,$B21,K18),"aaa")) -> 月 | L19: =IF(L18="","",TEXT(DATE($B20+2018,$B21,L18),"aaa")) -> 火 | M19: =IF(M18="","",TEXT(DATE($B20+2018,$B21,M18),"aaa")) -> 水 | N19: =IF(N18="","",TEXT(DATE($B20+2018,$B21,N18),"aaa")) -> 木 | ... AK19: =IF(AK18="","",TEXT(DATE($B20+2018,$B21,AK18),"aaa")) -> 土 | AS19: =IFERROR(AP22/AP20,"") -> 0.41935484
A20: 令和 | B20: 7 | C20: 年 | D20: 期間種別 | G20: 工 | H20: 工 | I20: 工 | J20: 工 | K20: 工 | L20: 工 | M20: 工 | N20: 工 | O20: 工 | P20: 工 | Q20: 工 | R20: 工 | S20: 工 | T20: 工 | U20: 工 | V20: 工 | W20: 工 | X20: 工 | Y20: 工 | Z20: 工 | AA20: 工 | AB20: 工 | AC20: 工 | AD20: 工 | AE20: 工 | AF20: 工 | AG20: 工 | AH20: 工 | AI20: 工 | AJ20: 工 | AK20: 工 | AL20: 対象期間日数 | AP20: =COUNTIF(G20:AK20,[1]プルダウン!$B$3) -> 31 | AR20: 〇
B21: 5 | C21: 月 | D21: 計画 | G21: 休 | H21: 休 | I21: 休 | J21: 休 | K21: 作 | L21: 作 | M21: 作 | N21: 作 | O21: 作 | P21: 休 | Q21: 休 | R21: 作 | S21: 作 | T21: 作 | U21: 作 | V21: 作 | W21: 休 | X21: 休 | Y21: 作 | Z21: 作 | AA21: 作 | AB21: 作 | AC21: 作 | AD21: 休 | AE21: 休 | AF21: 作 | AG21: 作 | AH21: 作 | AI21: 作 | AJ21: 作 | AK21: 休 | AR21: ①現場閉所率28.5%以上
D22: 実施 | G22: 休 | H22: 休 | I22: 休 | J22: 休 | K22: 作 | L22: 作 | M22: 作 | N22: 作 | O22: 作 | P22: 休 | Q22: 休 | R22: 作 | S22: 作 | T22: 作 | U22: 天 | V22: 作 | W22: 休 | X22: 休 | Y22: 作 | Z22: 作 | AA22: 作 | AB22: 天 | AC22: 作 | AD22: 休 | AE22: 休 | AF22: 作 | AG22: 作 | AH22: 作 | AI22: 作 | AJ22: 作 | AK22: 休 | AL22: 現場閉所日数 | AP22: =COUNTIF(G22:AK22,[1]プルダウン!$D$4)+COUNTIF(G22:AK22,[1]プルダウン!$D$5)-COUNTIF(G20:AK20,[1]プルダウン!$B$4)-COUNTIF(G20:AK20,[1]プルダウン!$B$5)-COUNTIF(G20:AK20,[1]プルダウン!$B$6)-COUNTIF(G20:AK20,[1]プルダウン!$B$7)-COUNTIF(G20:AK20,[1]プルダウン!$B$8)-COUNTIF(G20:AK20,[1]プルダウン!$B$9) -> 13
D23: 日付 | G23: 1 | H23: 2 | I23: 3 | J23: 4 | K23: 5 | L23: 6 | M23: 7 | N23: 8 | O23: 9 | P23: 10 | Q23: 11 | R23: 12 | S23: 13 | T23: 14 | U23: 15 | V23: 16 | W23: 17 | X23: 18 | Y23: 19 | Z23: 20 | AA23: 21 | AB23: 22 | AC23: 23 | AD23: 24 | AE23: 25 | AF23: 26 | AG23: 27 | AH23: 28 | AI23: =IF(DAY(EOMONTH(DATE(B25+2018,B26,1),0))<29,"","29") -> 29 | AJ23: =IF(DAY(EOMONTH(DATE(B25+2018,B26,1),0))<30,"","30") -> 30 | AK23: =IF(DAY(EOMONTH(DATE(B25+2018,B26,1),0))<31,"","31") | AL23: 実施要領3における | AR23: 現場閉所/対象期間
D24: 曜日 | G24: =IF(G23="","",TEXT(DATE($B25+2018,$B26,G23),"aaa")) -> 日 | H24: =IF(H23="","",TEXT(DATE($B25+2018,$B26,H23),"aaa")) -> 月 | I24: =IF(I23="","",TEXT(DATE($B25+2018,$B26,I23),"aaa")) -> 火 | J24: =IF(J23="","",TEXT(DATE($B25+2018,$B26,J23),"aaa")) -> 水 | K24: =IF(K23="","",TEXT(DATE($B25+2018,$B26,K23),"aaa")) -> 木 | L24: =IF(L23="","",TEXT(DATE($B25+2018,$B26,L23),"aaa")) -> 金 | M24: =IF(M23="","",TEXT(DATE($B25+2018,$B26,M23),"aaa")) -> 土 | N24: =IF(N23="","",TEXT(DATE($B25+2018,$B26,N23),"aaa")) -> 日 | ... AK24: =IF(AK23="","",TEXT(DATE($B25+2018,$B26,AK23),"aaa")) | AS24: =IFERROR(AP27/AP25,"") -> 0.33333333
A25: 令和 | B25: 7 | C25: 年 | D25: 期間種別 | G25: 工 | H25: 工 | I25: 工 | J25: 工 | K25: 工 | L25: 工 | M25: 工 | N25: 工 | O25: 工 | P25: 工 | Q25: 工 | R25: 工 | S25: 工 | T25: 工 | U25: 工 | V25: 工 | W25: 工 | X25: 工 | Y25: 工 | Z25: 工 | AA25: 工 | AB25: 工 | AC25: 工 | AD25: 工 | AE25: 工 | AF25: 工 | AG25: 工 | AH25: 工 | AI25: 工 | AJ25: 工 | AL25: 対象期間日数 | AP25: =COUNTIF(G25:AK25,[1]プルダウン!$B$3) -> 30 | AR25: 〇
B26: 6 | C26: 月 | D26: 計画 | G26: 休 | H26: 休 | I26: 作 | J26: 作 | K26: 作 | L26: 作 | M26: 休 | N26: 休 | O26: 作 | P26: 作 | Q26: 作 | R26: 作 | S26: 作 | T26: 休 | U26: 休 | V26: 作 | W26: 作 | X26: 作 | Y26: 作 | Z26: 作 | AA26: 休 | AB26: 休 | AC26: 作 | AD26: 作 | AE26: 作 | AF26: 作 | AG26: 作 | AH26: 休 | AI26: 休 | AJ26: 作 | AR26: ①現場閉所率28.5%以上
D27: 実施 | G27: 休 | H27: 休 | I27: 作 | J27: 作 | K27: 作 | L27: 作 | M27: 休 | N27: 休 | O27: 作 | P27: 作 | Q27: 作 | R27: 作 | S27: 作 | T27: 休 | U27: 休 | V27: 作 | W27: 作 | X27: 作 | Y27: 作 | Z27: 作 | AA27: 休 | AB27: 休 | AC27: 作 | AD27: 作 | AE27: 作 | AF27: 作 | AG27: 作 | AH27: 休 | AI27: 休 | AJ27: 作 | AL27: 現場閉所日数 | AP27: =COUNTIF(G27:AK27,[1]プルダウン!$D$4)+COUNTIF(G27:AK27,[1]プルダウン!$D$5)-COUNTIF(G25:AK25,[1]プルダウン!$B$4)-COUNTIF(G25:AK25,[1]プルダウン!$B$5)-COUNTIF(G25:AK25,[1]プルダウン!$B$6)-COUNTIF(G25:AK25,[1]プルダウン!$B$7)-COUNTIF(G25:AK25,[1]プルダウン!$B$8)-COUNTIF(G25:AK25,[1]プルダウン!$B$9) -> 10
D28: 日付 | G28: 1 | H28: 2 | I28: 3 | J28: 4 | K28: 5 | L28: 6 | M28: 7 | N28: 8 | O28: 9 | P28: 10 | Q28: 11 | R28: 12 | S28: 13 | T28: 14 | U28: 15 | V28: 16 | W28: 17 | X28: 18 | Y28: 19 | Z28: 20 | AA28: 21 | AB28: 22 | AC28: 23 | AD28: 24 | AE28: 25 | AF28: 26 | AG28: 27 | AH28: 28 | AI28: =IF(DAY(EOMONTH(DATE(B30+2018,B31,1),0))<29,"","29") -> 29 | AJ28: =IF(DAY(EOMONTH(DATE(B30+2018,B31,1),0))<30,"","30") -> 30 | AK28: =IF(DAY(EOMONTH(DATE(B30+2018,B31,1),0))<31,"","31") -> 31 | AL28: 実施要領3における | AR28: 現場閉所/対象期間
D29: 曜日 | G29: =IF(G28="","",TEXT(DATE($B30+2018,$B31,G28),"aaa")) -> 火 | H29: =IF(H28="","",TEXT(DATE($B30+2018,$B31,H28),"aaa")) -> 水 | I29: =IF(I28="","",TEXT(DATE($B30+2018,$B31,I28),"aaa")) -> 木 | J29: =IF(J28="","",TEXT(DATE($B30+2018,$B31,J28),"aaa")) -> 金 | K29: =IF(K28="","",TEXT(DATE($B30+2018,$B31,K28),"aaa")) -> 土 | L29: =IF(L28="","",TEXT(DATE($B30+2018,$B31,L28),"aaa")) -> 日 | M29: =IF(M28="","",TEXT(DATE($B30+2018,$B31,M28),"aaa")) -> 月 | N29: =IF(N28="","",TEXT(DATE($B30+2018,$B31,N28),"aaa")) -> 火 | ... AK29: =IF(AK28="","",TEXT(DATE($B30+2018,$B31,AK28),"aaa")) -> 木 | AS29: =IFERROR(AP32/AP30,"") -> 0.25806452
A30: 令和 | B30: 7 | C30: 年 | D30: 期間種別 | G30: 工 | H30: 工 | I30: 工 | J30: 工 | K30: 工 | L30: 工 | M30: 工 | N30: 工 | O30: 工 | P30: 工 | Q30: 工 | R30: 工 | S30: 工 | T30: 工 | U30: 工 | V30: 工 | W30: 工 | X30: 工 | Y30: 工 | Z30: 工 | AA30: 工 | AB30: 工 | AC30: 工 | AD30: 工 | AE30: 工 | AF30: 工 | AG30: 工 | AH30: 工 | AI30: 工 | AJ30: 工 | AK30: 工 | AL30: 対象期間日数 | AP30: =COUNTIF(G30:AK30,[1]プルダウン!$B$3) -> 31 | AR30: 〇
B31: 7 | C31: 月 | D31: 計画 | G31: 作 | H31: 作 | I31: 作 | J31: 作 | K31: 休 | L31: 休 | M31: 作 | N31: 作 | O31: 作 | P31: 作 | Q31: 作 | R31: 休 | S31: 休 | T31: 作 | U31: 作 | V31: 作 | W31: 作 | X31: 作 | Y31: 休 | Z31: 休 | AA31: 作 | AB31: 作 | AC31: 作 | AD31: 作 | AE31: 作 | AF31: 休 | AG31: 休 | AH31: 作 | AI31: 作 | AJ31: 作 | AK31: 作 | AR31: ②現場閉所率28.5%未満だが、暦上の土日全て閉所
D32: 実施 | G32: 作 | H32: 作 | I32: 作 | J32: 作 | K32: 休 | L32: 休 | M32: 作 | N32: 作 | O32: 作 | P32: 作 | Q32: 作 | R32: 休 | S32: 休 | T32: 作 | U32: 作 | V32: 作 | W32: 作 | X32: 作 | Y32: 休 | Z32: 休 | AA32: 作 | AB32: 作 | AC32: 作 | AD32: 作 | AE32: 作 | AF32: 休 | AG32: 休 | AH32: 作 | AI32: 作 | AJ32: 作 | AK32: 作 | AL32: 現場閉所日数 | AP32: =COUNTIF(G32:AK32,[1]プルダウン!$D$4)+COUNTIF(G32:AK32,[1]プルダウン!$D$5)-COUNTIF(G30:AK30,[1]プルダウン!$B$4)-COUNTIF(G30:AK30,[1]プルダウン!$B$5)-COUNTIF(G30:AK30,[1]プルダウン!$B$6)-COUNTIF(G30:AK30,[1]プルダウン!$B$7)-COUNTIF(G30:AK30,[1]プルダウン!$B$8)-COUNTIF(G30:AK30,[1]プルダウン!$B$9) -> 8
D33: 日付 | G33: 1 | H33: 2 | I33: 3 | J33: 4 | K33: 5 | L33: 6 | M33: 7 | N33: 8 | O33: 9 | P33: 10 | Q33: 11 | R33: 12 | S33: 13 | T33: 14 | U33: 15 | V33: 16 | W33: 17 | X33: 18 | Y33: 19 | Z33: 20 | AA33: 21 | AB33: 22 | AC33: 23 | AD33: 24 | AE33: 25 | AF33: 26 | AG33: 27 | AH33: 28 | AI33: =IF(DAY(EOMONTH(DATE(B35+2018,B36,1),0))<29,"","29") -> 29 | AJ33: =IF(DAY(EOMONTH(DATE(B35+2018,B36,1),0))<30,"","30") -> 30 | AK33: =IF(DAY(EOMONTH(DATE(B35+2018,B36,1),0))<31,"","31") -> 31 | AL33: 実施要領3における | AR33: 現場閉所/対象期間
D34: 曜日 | G34: =IF(G33="","",TEXT(DATE($B35+2018,$B36,G33),"aaa")) -> 金 | H34: =IF(H33="","",TEXT(DATE($B35+2018,$B36,H33),"aaa")) -> 土 | I34: =IF(I33="","",TEXT(DATE($B35+2018,$B36,I33),"aaa")) -> 日 | J34: =IF(J33="","",TEXT(DATE($B35+2018,$B36,J33),"aaa")) -> 月 | K34: =IF(K33="","",TEXT(DATE($B35+2018,$B36,K33),"aaa")) -> 火 | L34: =IF(L33="","",TEXT(DATE($B35+2018,$B36,L33),"aaa")) -> 水 | M34: =IF(M33="","",TEXT(DATE($B35+2018,$B36,M33),"aaa")) -> 木 | N34: =IF(N33="","",TEXT(DATE($B35+2018,$B36,N33),"aaa")) -> 金 | ... AK34: =IF(AK33="","",TEXT(DATE($B35+2018,$B36,AK33),"aaa")) -> 日 | AS34: =IFERROR(AP37/AP35,"") -> 0.38461538
A35: 令和 | B35: 7 | C35: 年 | D35: 期間種別 | G35: 工 | H35: 工 | I35: 工 | J35: 工 | K35: 工 | L35: 工 | M35: 工 | N35: 工 | O35: 工 | P35: 工 | Q35: 工 | R35: 夏 | S35: 夏 | T35: 夏 | U35: 夏 | V35: 夏 | W35: 工 | X35: 工 | Y35: 工 | Z35: 工 | AA35: 工 | AB35: 工 | AC35: 工 | AD35: 工 | AE35: 工 | AF35: 工 | AG35: 工 | AH35: 工 | AI35: 工 | AJ35: 工 | AK35: 工 | AL35: 対象期間日数 | AP35: =COUNTIF(G35:AK35,[1]プルダウン!$B$3) -> 26 | AR35: 〇
B36: 8 | C36: 月 | D36: 計画 | G36: 作 | H36: 休 | I36: 休 | J36: 作 | K36: 作 | L36: 作 | M36: 作 | N36: 作 | O36: 休 | P36: 休 | Q36: 休 | R36: 休 | S36: 休 | T36: 休 | U36: 休 | V36: 休 | W36: 休 | X36: 作 | Y36: 作 | Z36: 作 | AA36: 作 | AB36: 作 | AC36: 休 | AD36: 休 | AE36: 作 | AF36: 作 | AG36: 作 | AH36: 作 | AI36: 作 | AJ36: 休 | AK36: 休 | AR36: ①現場閉所率28.5%以上
D37: 実施 | G37: 作 | H37: 休 | I37: 休 | J37: 作 | K37: 作 | L37: 作 | M37: 作 | N37: 作 | O37: 休 | P37: 休 | Q37: 休 | R37: 休 | S37: 休 | T37: 休 | U37: 休 | V37: 休 | W37: 休 | X37: 作 | Y37: 作 | Z37: 作 | AA37: 作 | AB37: 作 | AC37: 休 | AD37: 休 | AE37: 作 | AF37: 作 | AG37: 作 | AH37: 作 | AI37: 作 | AJ37: 休 | AK37: 休 | AL37: 現場閉所日数 | AP37: =COUNTIF(G37:AK37,[1]プルダウン!$D$4)+COUNTIF(G37:AK37,[1]プルダウン!$D$5)-COUNTIF(G35:AK35,[1]プルダウン!$B$4)-COUNTIF(G35:AK35,[1]プルダウン!$B$5)-COUNTIF(G35:AK35,[1]プルダウン!$B$6)-COUNTIF(G35:AK35,[1]プルダウン!$B$7)-COUNTIF(G35:AK35,[1]プルダウン!$B$8)-COUNTIF(G35:AK35,[1]プルダウン!$B$9) -> 10
D38: 日付 | G38: 1 | H38: 2 | I38: 3 | J38: 4 | K38: 5 | L38: 6 | M38: 7 | N38: 8 | O38: 9 | P38: 10 | Q38: 11 | R38: 12 | S38: 13 | T38: 14 | U38: 15 | V38: 16 | W38: 17 | X38: 18 | Y38: 19 | Z38: 20 | AA38: 21 | AB38: 22 | AC38: 23 | AD38: 24 | AE38: 25 | AF38: 26 | AG38: 27 | AH38: 28 | AI38: =IF(DAY(EOMONTH(DATE(B40+2018,B41,1),0))<29,"","29") -> 29 | AJ38: =IF(DAY(EOMONTH(DATE(B40+2018,B41,1),0))<30,"","30") -> 30 | AK38: =IF(DAY(EOMONTH(DATE(B40+2018,B41,1),0))<31,"","31") | AL38: 実施要領3における | AR38: 現場閉所/対象期間
D39: 曜日 | G39: =IF(G38="","",TEXT(DATE($B40+2018,$B41,G38),"aaa")) -> 月 | H39: =IF(H38="","",TEXT(DATE($B40+2018,$B41,H38),"aaa")) -> 火 | I39: =IF(I38="","",TEXT(DATE($B40+2018,$B41,I38),"aaa")) -> 水 | J39: =IF(J38="","",TEXT(DATE($B40+2018,$B41,J38),"aaa")) -> 木 | K39: =IF(K38="","",TEXT(DATE($B40+2018,$B41,K38),"aaa")) -> 金 | L39: =IF(L38="","",TEXT(DATE($B40+2018,$B41,L38),"aaa")) -> 土 | M39: =IF(M38="","",TEXT(DATE($B40+2018,$B41,M38),"aaa")) -> 日 | N39: =IF(N38="","",TEXT(DATE($B40+2018,$B41,N38),"aaa")) -> 月 | ... AK39: =IF(AK38="","",TEXT(DATE($B40+2018,$B41,AK38),"aaa")) | AS39: =IFERROR(AP42/AP40,"") -> 0.16666667
A40: 令和 | B40: 7 | C40: 年 | D40: 期間種別 | G40: 中 | H40: 中 | I40: 中 | J40: 中 | K40: 中 | L40: 中 | M40: 中 | N40: 中 | O40: 中 | P40: 中 | Q40: 中 | R40: 中 | S40: 中 | T40: 中 | U40: 中 | V40: 中 | W40: 中 | X40: 中 | Y40: 中 | Z40: 中 | AA40: 中 | AB40: 中 | AC40: 中 | AD40: 中 | AE40: 工 | AF40: 工 | AG40: 工 | AH40: 工 | AI40: 工 | AJ40: 工 | AL40: 対象期間日数 | AP40: =COUNTIF(G40:AK40,[1]プルダウン!$B$3) -> 6 | AR40: ×
B41: 9 | C41: 月 | D41: 計画 | G41: 作 | H41: 作 | I41: 作 | J41: 作 | K41: 作 | L41: 休 | M41: 休 | N41: 作 | O41: 作 | P41: 作 | Q41: 作 | R41: 作 | S41: 休 | T41: 休 | U41: 作 | V41: 作 | W41: 作 | X41: 作 | Y41: 作 | Z41: 休 | AA41: 休 | AB41: 作 | AC41: 作 | AD41: 作 | AE41: 作 | AF41: 作 | AG41: 休 | AH41: 休 | AI41: 作 | AJ41: 作
D42: 実施 | G42: 休 | H42: 休 | I42: 休 | J42: 休 | K42: 休 | L42: 休 | M42: 休 | N42: 休 | O42: 休 | P42: 休 | Q42: 休 | R42: 休 | S42: 休 | T42: 休 | U42: 休 | V42: 休 | W42: 休 | X42: 休 | Y42: 休 | Z42: 休 | AA42: 休 | AB42: 休 | AC42: 休 | AD42: 休 | AE42: 作 | AF42: 作 | AG42: 休 | AH42: 作 | AI42: 作 | AJ42: 作 | AL42: 現場閉所日数 | AP42: =COUNTIF(G42:AK42,[1]プルダウン!$D$4)+COUNTIF(G42:AK42,[1]プルダウン!$D$5)-COUNTIF(G40:AK40,[1]プルダウン!$B$4)-COUNTIF(G40:AK40,[1]プルダウン!$B$5)-COUNTIF(G40:AK40,[1]プルダウン!$B$6)-COUNTIF(G40:AK40,[1]プルダウン!$B$7)-COUNTIF(G40:AK40,[1]プルダウン!$B$8)-COUNTIF(G40:AK40,[1]プルダウン!$B$9) -> 1
...

Sheet 【様式】休日確保状況報告書
A1: 【交替制様式】
A2: 【休日確保状況報告書】
A5: 月単位における週休２日の判定(休日率28.5％以上)
A6: ∴
A8: 通期における週休２日の判定(休日率28.5％以上)
A9: ∴
A11: 【集計】
A12: 会社名 | C12: 氏名 | D12: 対象期間 | E12: 休日日数 | F12: 休日日数の割合 | G12: 通期単位の週休２日
F13: =IFERROR(+ROUND(E13/D13,3),"")
F14: =IFERROR(+ROUND(E14/D14,3),"")
F15: =IFERROR(+ROUND(E15/D15,3),"")
F16: =IFERROR(+ROUND(E16/D16,3),"")
F17: =IFERROR(+ROUND(E17/D17,3),"")
F18: =IFERROR(+ROUND(E18/D18,3),"")
F19: =IFERROR(+ROUND(E19/D19,3),"")
F20: =IFERROR(+ROUND(E20/D20,3),"")
A22: 【令和 年 月】
A23: 会社名 | C23: 氏名 | D23: 対象期間 | E23: 休日日数 | F23: 休日日数の割合 | G23: 月単位の週休２日
F24: =IFERROR(+ROUND(E24/D24,3),"")
F25: =IFERROR(+ROUND(E25/D25,3),"")
F26: =IFERROR(+ROUND(E26/D26,3),"")
F27: =IFERROR(+ROUND(E27/D27,3),"")
F28: =IFERROR(+ROUND(E28/D28,3),"")
F29: =IFERROR(+ROUND(E29/D29,3),"")
F30: =IFERROR(+ROUND(E30/D30,3),"")
F31: =IFERROR(+ROUND(E31/D31,3),"")
A33: 【令和 年 月】
A34: 会社名 | C34: 氏名 | D34: 対象期間 | E34: 休日日数 | F34: 休日日数の割合 | G34: 月単位の週休２日
F35: =IFERROR(+ROUND(E35/D35,3),"")
F36: =IFERROR(+ROUND(E36/D36,3),"")
F37: =IFERROR(+ROUND(E37/D37,3),"")
F38: =IFERROR(+ROUND(E38/D38,3),"")
F39: =IFERROR(+ROUND(E39/D39,3),"")
F40: =IFERROR(+ROUND(E40/D40,3),"")
F41: =IFERROR(+ROUND(E41/D41,3),"")
F42: =IFERROR(+ROUND(E42/D42,3),"")
A44: ※「会社名」、「氏名」、「対象期間」、「休日日数」欄に記入する
A45: ※対象期間について、元請会社は技術者及び技能労働者の従事期間の日数、下請会社は施工体制台帳上の工期日数を基本とする
A46: ※技術者および技能労働者の出勤状況が分かる一覧表と休日が証明できる書類を添付する
A47: ※対象者数、対象期間日数に応じて、行の追加削除を適切に行う
...

Sheet 【記載例】休日確保状況報告書
A1: 【交替制様式】
A2: 【休日確保状況報告書】 | C2: 令和〇年度 〇〇工事
C3: (工期 令和〇年〇月〇日～令和〇年〇月〇日)
A5: 月単位における週休２日の判定(休日率28.5％以上)
A6: ∴ | B6: 月単位の週休２日達成
A8: 通期における週休２日の判定(休日率28.5％以上)
A9: ∴ | B9: 通期単位の週休２日達成
A11: 【集計】
A12: 会社名 | C12: 氏名 | D12: 対象期間 | E12: 休日日数 | F12: 休日日数の割合 | G12: 通期単位の週休２日
A13: A建設 | C13: ○○ | D13: 61 | E13: 19 | F13: =IFERROR(+ROUND(E13/D13,3),"") -> 0.311 | G13: 〇
C14: □□ | D14: 61 | E14: 19 | F14: =IFERROR(+ROUND(E14/D14,3),"") -> 0.311 | G14: 〇
C15: △△ | D15: 61 | E15: 19 | F15: =IFERROR(+ROUND(E15/D15,3),"") -> 0.311 | G15: 〇
A16: B建設（一次下請） | C16: ●● | D16: 56 | E16: 17 | F16: =IFERROR(+ROUND(E16/D16,3),"") -> 0.304 | G16: 〇
C17: ■■ | D17: 56 | E17: 17 | F17: =IFERROR(+ROUND(E17/D17,3),"") -> 0.304 | G17: 〇
C18: ▲▲ | D18: 56 | E18: 17 | F18: =IFERROR(+ROUND(E18/D18,3),"") -> 0.304 | G18: 〇
A19: C電設（二次下請） | C19: ▽▽ | D19: 20 | E19: 6 | F19: =IFERROR(+ROUND(E19/D19,3),"") -> 0.3 | G19: 〇
A20: D工業（二次下請） | C20: ◇◇ | D20: 40 | E20: 12 | F20: =IFERROR(+ROUND(E20/D20,3),"") -> 0.3 | G20: 〇
A22: 【令和〇年４月】
A23: 会社名 | C23: 氏名 | D23: 対象期間 | E23: 休日日数 | F23: 休日日数の割合 | G23: 月単位の週休２日
A24: A建設 | C24: ○○ | D24: 30 | E24: 9 | F24: =IFERROR(+ROUND(E24/D24,3),"") -> 0.3 | G24: 〇
C25: □□ | D25: 30 | E25: 9 | F25: =IFERROR(+ROUND(E25/D25,3),"") -> 0.3 | G25: 〇
C26: △△ | D26: 30 | E26: 9 | F26: =IFERROR(+ROUND(E26/D26,3),"") -> 0.3 | G26: 〇
A27: B建設（一次下請） | C27: ●● | D27: 25 | E27: 8 | F27: =IFERROR(+ROUND(E27/D27,3),"") -> 0.32 | G27: 〇
C28: ■■ | D28: 25 | E28: 8 | F28: =IFERROR(+ROUND(E28/D28,3),"") -> 0.32 | G28: 〇
C29: ▲▲ | D29: 25 | E29: 8 | F29: =IFERROR(+ROUND(E29/D29,3),"") -> 0.32 | G29: 〇
A30: C電設（二次下請） | C30: ▽▽ | D30: 20 | E30: 6 | F30: =IFERROR(+ROUND(E30/D30,3),"") -> 0.3 | G30: 〇
A31: D工業（二次下請） | C31: ◇◇ | D31: 20 | E31: 6 | F31: =IFERROR(+ROUND(E31/D31,3),"") -> 0.3 | G31: 〇
A33: 【令和〇年５月】
A34: 会社名 | C34: 氏名 | D34: 対象期間 | E34: 休日日数 | F34: 休日日数の割合 | G34: 月単位の週休２日
A35: A建設 | C35: ○○ | D35: 31 | E35: 10 | F35: =IFERROR(+ROUND(E35/D35,3),"") -> 0.323 | G35: 〇
C36: □□ | D36: 31 | E36: 10 | F36: =IFERROR(+ROUND(E36/D36,3),"") -> 0.323 | G36: 〇
C37: △△ | D37: 31 | E37: 10 | F37: =IFERROR(+ROUND(E37/D37,3),"") -> 0.323 | G37: 〇
A38: B建設（一次下請） | C38: ●● | D38: 31 | E38: 9 | F38: =IFERROR(+ROUND(E38/D38,3),"") -> 0.29 | G38: 〇
C39: ■■ | D39: 31 | E39: 9 | F39: =IFERROR(+ROUND(E39/D39,3),"") -> 0.29 | G39: 〇
C40: ▲▲ | D40: 31 | E40: 9 | F40: =IFERROR(+ROUND(E40/D40,3),"") -> 0.29 | G40: 〇
A41: C電設（二次下請） | C41: ▽▽ | D41: 0 | E41: 0 | F41: =IFERROR(+ROUND(E41/D41,3),"") | G41: 〇
A42: D工業（二次下請） | C42: ◇◇ | D42: 20 | E42: 6 | F42: =IFERROR(+ROUND(E42/D42,3),"") -> 0.3 | G42: 〇
A44: ※「会社名」、「氏名」、「対象期間」、「休日日数」欄に記入する
A45: ※対象期間について、元請会社は技術者及び技能労働者の従事期間の日数、下請会社は施工体制台帳上の工期日数を基本とする
A46: ※技術者および技能労働者の出勤状況が分かる一覧表と休日が証明できる書類を添付する
...

Sheet プルダウン
A2: 曜日 | B2: 期間種別 | D2: 作業・閉所種別 | F2: 年 | G2: 月 | H2: 元号
A3: 日 | B3: 工 | C3: ：工期内（一定期間内） | D3: 作 | E3: ：作業日 | F3: 元 | G3: 1 | H3: 令和
A4: 月 | B4: 中 | C4: ：工事中止期間 | D4: 休 | E4: ：現場閉所日（休日） | F4: 2 | G4: 2 | H4: 平成
A5: 火 | B5: 製 | C5: ：工場製作期間 | D5: 天 | E5: ：天候等による予定外休工日 | F5: 3 | G5: 3
A6: 水 | B6: 年 | C6: ：年末年始休業期間 | F6: 4 | G6: 4
A7: 木 | B7: 夏 | C7: ：夏季休暇期間 | F7: 5 | G7: 5
A8: 金 | B8: 他 | C8: ：その他対象外期間 | F8: 6 | G8: 6
A9: 土 | F9: 7 | G9: 7
F10: 8 | G10: 8
F11: 9 | G11: 9
F12: 10 | G12: 10
F13: 11 | G13: 11
F14: 12 | G14: 12
F15: 13
F16: 14
F17: 15
F18: 16
F19: 17
F20: 18
F21: 19
F22: 20
F23: 21
F24: 22
F25: 23
F26: 24
... F82: 80
